BEGIN:VCALENDAR
VERSION:2.0
PRODID:-//Episcopal Diocese of North Carolina - ECPv6.15.20//NONSGML v1.0//EN
CALSCALE:GREGORIAN
METHOD:PUBLISH
X-WR-CALNAME:Episcopal Diocese of North Carolina
X-ORIGINAL-URL:https://episdionc.org
X-WR-CALDESC:Events for Episcopal Diocese of North Carolina
REFRESH-INTERVAL;VALUE=DURATION:PT1H
X-Robots-Tag:noindex
X-PUBLISHED-TTL:PT1H
BEGIN:VTIMEZONE
TZID:America/New_York
BEGIN:DAYLIGHT
TZOFFSETFROM:-0500
TZOFFSETTO:-0400
TZNAME:EDT
DTSTART:20250309T070000
END:DAYLIGHT
BEGIN:STANDARD
TZOFFSETFROM:-0400
TZOFFSETTO:-0500
TZNAME:EST
DTSTART:20251102T060000
END:STANDARD
BEGIN:DAYLIGHT
TZOFFSETFROM:-0500
TZOFFSETTO:-0400
TZNAME:EDT
DTSTART:20260308T070000
END:DAYLIGHT
BEGIN:STANDARD
TZOFFSETFROM:-0400
TZOFFSETTO:-0500
TZNAME:EST
DTSTART:20261101T060000
END:STANDARD
BEGIN:DAYLIGHT
TZOFFSETFROM:-0500
TZOFFSETTO:-0400
TZNAME:EDT
DTSTART:20270314T070000
END:DAYLIGHT
BEGIN:STANDARD
TZOFFSETFROM:-0400
TZOFFSETTO:-0500
TZNAME:EST
DTSTART:20271107T060000
END:STANDARD
END:VTIMEZONE
BEGIN:VEVENT
DTSTART;TZID=America/New_York:20260418T110000
DTEND;TZID=America/New_York:20260418T140000
DTSTAMP:20260420T050701
CREATED:20260408T142006Z
LAST-MODIFIED:20260408T142617Z
UID:260419-1776510000-1776520800@episdionc.org
SUMMARY:Doing the Soul Work with the Rev. Gayle Fisher-Stewart
DESCRIPTION:RSVP \nChurch Hurt – Reparations for My Soul: Healing Racialized Trauma by the Rev. Gayle Fisher-Stewart was the subject of this year’s diocesan Lenten book read. \nOn Saturday\, April 18\, the Rev. Fisher-Stewart will speak at a luncheon about the book and “doing the soul work.” The event is taking place at Redeemer\, Greensboro from 11 a.m. – 2 p.m. \nThere is no cost to attend\, but registration is required. Lunch will be provided for those attending.
URL:https://episdionc.org/event/doing-the-soul-work-with-the-rev-gayle-fisher-stewart/
LOCATION:Episcopal Church of the Redeemer\, 901 E Friendly Avenue\, Greensboro\, NC\, 27401\, United States
CATEGORIES:Discipleship/Formation,Racial Reckoning, Justice, Healing
END:VEVENT
END:VCALENDAR